BEGIN:VCALENDAR
VERSION:2.0
PRODID:-//Lòdola - ECPv6.9.0//NONSGML v1.0//EN
CALSCALE:GREGORIAN
METHOD:PUBLISH
X-WR-CALNAME:Lòdola
X-ORIGINAL-URL:https://spaziolodola.it
X-WR-CALDESC:Eventi per Lòdola
REFRESH-INTERVAL;VALUE=DURATION:PT1H
X-Robots-Tag:noindex
X-PUBLISHED-TTL:PT1H
BEGIN:VTIMEZONE
TZID:Europe/Rome
BEGIN:DAYLIGHT
TZOFFSETFROM:+0100
TZOFFSETTO:+0200
TZNAME:CEST
DTSTART:20250330T010000
END:DAYLIGHT
BEGIN:STANDARD
TZOFFSETFROM:+0200
TZOFFSETTO:+0100
TZNAME:CET
DTSTART:20251026T010000
END:STANDARD
END:VTIMEZONE
BEGIN:VEVENT
DTSTART;TZID=Europe/Rome:20250904T183000
DTEND;TZID=Europe/Rome:20250904T193000
DTSTAMP:20260425T041528
CREATED:20250729T111511Z
LAST-MODIFIED:20250729T111511Z
UID:1266-1757010600-1757014200@spaziolodola.it
SUMMARY:Distribuzione Alveare di Modena
DESCRIPTION:Ogni settimana è aperta la vendita dell’Alveare che dice sì: hai tempo fino a martedì a mezzanotte per concludere l’ordine.\nIl giovedì\, dalle 18.30 alle 19.30 a Spazio Lòdola\, con i produttori organizziamo la consegna dei prodotti acquistati e basterà presentarsi con il proprio numero d’ordine per ritirarli. \nPer maggiori info: 346 6769102 o https://alvearechedicesi.it/it 
URL:https://spaziolodola.it/event/distribuzione-alveare-di-modena-3/
END:VEVENT
BEGIN:VEVENT
DTSTART;TZID=Europe/Rome:20250911T183000
DTEND;TZID=Europe/Rome:20250911T193000
DTSTAMP:20260425T041528
CREATED:20250729T111532Z
LAST-MODIFIED:20250729T111532Z
UID:1268-1757615400-1757619000@spaziolodola.it
SUMMARY:Distribuzione Alveare di Modena
DESCRIPTION:Ogni settimana è aperta la vendita dell’Alveare che dice sì: hai tempo fino a martedì a mezzanotte per concludere l’ordine.\nIl giovedì\, dalle 18.30 alle 19.30 a Spazio Lòdola\, con i produttori organizziamo la consegna dei prodotti acquistati e basterà presentarsi con il proprio numero d’ordine per ritirarli. \nPer maggiori info: 346 6769102 o https://alvearechedicesi.it/it 
URL:https://spaziolodola.it/event/distribuzione-alveare-di-modena-4/
END:VEVENT
BEGIN:VEVENT
DTSTART;TZID=Europe/Rome:20250917T200000
DTEND;TZID=Europe/Rome:20250917T220000
DTSTAMP:20260425T041528
CREATED:20250918T133415Z
LAST-MODIFIED:20250918T133415Z
UID:1364-1758139200-1758146400@spaziolodola.it
SUMMARY:Open Day: Corso di tamburi a cornice del Sud Italia
DESCRIPTION:Open day gratuito del corso di tamburi a cornice del Sud Italia\nMercoledì 17 settembre h. 20 presso Spazio Lòdola  \nPer info e prenotazioni\nMaurizio: 320 2121864 | mauriziomessore@hotmail.it
URL:https://spaziolodola.it/event/open-day-corso-di-tamburi-a-cornice-del-sud-italia/
END:VEVENT
BEGIN:VEVENT
DTSTART;TZID=Europe/Rome:20250918T183000
DTEND;TZID=Europe/Rome:20250918T193000
DTSTAMP:20260425T041528
CREATED:20250729T111551Z
LAST-MODIFIED:20250729T111551Z
UID:1270-1758220200-1758223800@spaziolodola.it
SUMMARY:Distribuzione Alveare di Modena
DESCRIPTION:Ogni settimana è aperta la vendita dell’Alveare che dice sì: hai tempo fino a martedì a mezzanotte per concludere l’ordine.\nIl giovedì\, dalle 18.30 alle 19.30 a Spazio Lòdola\, con i produttori organizziamo la consegna dei prodotti acquistati e basterà presentarsi con il proprio numero d’ordine per ritirarli. \nPer maggiori info: 346 6769102 o https://alvearechedicesi.it/it 
URL:https://spaziolodola.it/event/distribuzione-alveare-di-modena-5/
END:VEVENT
BEGIN:VEVENT
DTSTART;TZID=Europe/Rome:20250918T190000
DTEND;TZID=Europe/Rome:20250918T203000
DTSTAMP:20260425T041528
CREATED:20250729T111000Z
LAST-MODIFIED:20250729T111000Z
UID:1254-1758222000-1758227400@spaziolodola.it
SUMMARY:Laboratorio di ceramica con Spontanea Ceramic
DESCRIPTION:
URL:https://spaziolodola.it/event/laboratorio-di-ceramica-con-spontanea-ceramic/
END:VEVENT
BEGIN:VEVENT
DTSTART;TZID=Europe/Rome:20250922T183000
DTEND;TZID=Europe/Rome:20250922T193000
DTSTAMP:20260425T041528
CREATED:20250918T132951Z
LAST-MODIFIED:20250918T132951Z
UID:1351-1758565800-1758569400@spaziolodola.it
SUMMARY:Corso di Yoga con Matteo
DESCRIPTION:Ogni lunedì alle 18.30 a Spazio Lòdola lezione di yoga con Matteo Gilioli. \nPer maggiori informazioni contattare Matteo:\n– su instagram @matteo_gilioli_\n– su whatsapp 347 4377902\n– via mail: matteogilioli23@gmail.com
URL:https://spaziolodola.it/event/corso-di-yoga-con-matteo/
END:VEVENT
BEGIN:VEVENT
DTSTART;TZID=Europe/Rome:20250924T200000
DTEND;TZID=Europe/Rome:20250924T213000
DTSTAMP:20260425T041528
CREATED:20250918T133446Z
LAST-MODIFIED:20250918T133446Z
UID:1366-1758744000-1758749400@spaziolodola.it
SUMMARY:Corso di tamburi a cornice del Sud Italia
DESCRIPTION:Per info e prenotazioni\nMaurizio: 320 2121864 | mauriziomessore@hotmail.it
URL:https://spaziolodola.it/event/corso-di-tamburi-a-cornice-del-sud-italia/
END:VEVENT
BEGIN:VEVENT
DTSTART;TZID=Europe/Rome:20250925T183000
DTEND;TZID=Europe/Rome:20250925T193000
DTSTAMP:20260425T041528
CREATED:20250729T111610Z
LAST-MODIFIED:20250729T111610Z
UID:1272-1758825000-1758828600@spaziolodola.it
SUMMARY:Distribuzione Alveare di Modena
DESCRIPTION:Ogni settimana è aperta la vendita dell’Alveare che dice sì: hai tempo fino a martedì a mezzanotte per concludere l’ordine.\nIl giovedì\, dalle 18.30 alle 19.30 a Spazio Lòdola\, con i produttori organizziamo la consegna dei prodotti acquistati e basterà presentarsi con il proprio numero d’ordine per ritirarli. \nPer maggiori info: 346 6769102 o https://alvearechedicesi.it/it 
URL:https://spaziolodola.it/event/distribuzione-alveare-di-modena-6/
END:VEVENT
BEGIN:VEVENT
DTSTART;TZID=Europe/Rome:20250925T190000
DTEND;TZID=Europe/Rome:20250925T203000
DTSTAMP:20260425T041528
CREATED:20250729T111017Z
LAST-MODIFIED:20250729T111017Z
UID:1256-1758826800-1758832200@spaziolodola.it
SUMMARY:Laboratorio di ceramica con Spontanea Ceramic
DESCRIPTION:
URL:https://spaziolodola.it/event/laboratorio-di-ceramica-con-spontanea-ceramic-2/
END:VEVENT
BEGIN:VEVENT
DTSTART;TZID=Europe/Rome:20250926T180000
DTEND;TZID=Europe/Rome:20250926T213000
DTSTAMP:20260425T041528
CREATED:20250917T152150Z
LAST-MODIFIED:20250917T152150Z
UID:1332-1758909600-1758922200@spaziolodola.it
SUMMARY:Movimenti Tra Culture
DESCRIPTION:Venerdì 26 settembre 2025 nel Parco XXII Aprile si terrà una festa di comunità: musica e sapori per incontrarsi e crescere insieme come comunità\, nel segno della relazione e del dialogo tra culture e generazioni. \nProgramma della serata: \n\n17:30 – 18:30 | Laboratorio per bambini e bambine\nPercussioni e giochi musicali con Allargate il cerchio\n\n\n18:30 – 19:30 | Festa di quartiere con aperitivo multietnico\nDegustazioni con ticket da ritirare all’ingresso\, per assaggiare i piatti proposti agli stand\n\n\n20:00 – 21:30 | Laboratori musicali presso Renzo Piano\nAttività musicali con Allargate il cerchio e altri gruppi artistici (in attesa di conferma)\n\nDurante tutta la serata troverai: spazi artistici e artigianali e\, diffusi nel parco\, spazi per lasciare pensieri e suggestioni e conoscere realtà del territorio. \n“Movimenti fra Culture” è un invito a vivere il quartiere come uno spazio di incontro. La festa si inserisce nel più ampio percorso di “Mondi in festa – i sapori della Crocetta”\, la rassegna che ha animato i venerdì estivi del Parco 22 Aprile\, mostrando come convivialità\, cibo e tradizioni possano trasformarsi in veri ponti tra persone. \nL’iniziativa ospiterà l’esperienza di volontariato dei dipendenti Maserati. \nSpazio Lòdola è aperto dal martedì al sabato dalle ore 16 alle ore 23. Per prenotare il tuo tavolo per la serata puoi scriverci su WhatsApp al 351 7420921 o via mail a spaziolodola@coopoltremare.it
URL:https://spaziolodola.it/event/movimenti-tra-culture/
END:VEVENT
BEGIN:VEVENT
DTSTART;TZID=Europe/Rome:20250927T203000
DTEND;TZID=Europe/Rome:20250927T230000
DTSTAMP:20260425T041528
CREATED:20250918T132333Z
LAST-MODIFIED:20250918T132400Z
UID:1337-1759005000-1759014000@spaziolodola.it
SUMMARY:Concerto tributo a Fabrizio De Andrè
DESCRIPTION:Concerto tributo a Fabrizio De Andrè a partire dalle 20.30 a Spazio Lòdola. \nIngresso con offerta libera e possibilità di fare aperitivo e cena a Spazio Lòdola (orari di apertura della giornata: 16-23).\nPer info e prenotazioni: spaziolodola@coopoltremare.it o WhatsApp. \n 
URL:https://spaziolodola.it/event/concerto-tributo-a-de-andre/
END:VEVENT
BEGIN:VEVENT
DTSTART;TZID=Europe/Rome:20250929T183000
DTEND;TZID=Europe/Rome:20250929T193000
DTSTAMP:20260425T041528
CREATED:20250918T133011Z
LAST-MODIFIED:20250918T133011Z
UID:1354-1759170600-1759174200@spaziolodola.it
SUMMARY:Corso di Yoga con Matteo
DESCRIPTION:Ogni lunedì alle 18.30 a Spazio Lòdola lezione di yoga con Matteo Gilioli. \nPer maggiori informazioni contattare Matteo:\n– su instagram @matteo_gilioli_\n– su whatsapp 347 4377902\n– via mail: matteogilioli23@gmail.com
URL:https://spaziolodola.it/event/corso-di-yoga-con-matteo-2/
END:VEVENT
END:VCALENDAR