BEGIN:VCALENDAR
VERSION:2.0
PRODID:-//Lòdola - ECPv6.9.0//NONSGML v1.0//EN
CALSCALE:GREGORIAN
METHOD:PUBLISH
X-WR-CALNAME:Lòdola
X-ORIGINAL-URL:https://spaziolodola.it
X-WR-CALDESC:Eventi per Lòdola
REFRESH-INTERVAL;VALUE=DURATION:PT1H
X-Robots-Tag:noindex
X-PUBLISHED-TTL:PT1H
BEGIN:VTIMEZONE
TZID:Europe/Rome
BEGIN:DAYLIGHT
TZOFFSETFROM:+0100
TZOFFSETTO:+0200
TZNAME:CEST
DTSTART:20250330T010000
END:DAYLIGHT
BEGIN:STANDARD
TZOFFSETFROM:+0200
TZOFFSETTO:+0100
TZNAME:CET
DTSTART:20251026T010000
END:STANDARD
END:VTIMEZONE
BEGIN:VEVENT
DTSTART;TZID=Europe/Rome:20250703T210000
DTEND;TZID=Europe/Rome:20250703T230000
DTSTAMP:20260425T182627
CREATED:20250603T145118Z
LAST-MODIFIED:20250603T151008Z
UID:1193-1751576400-1751583600@spaziolodola.it
SUMMARY:Revol Jam Estate 2025
DESCRIPTION:Un appuntamento insieme alla Revol Wave Orchestra per jammare insieme prima delle vacanze a Spazio Lòdola. \nSi inizia alle 21 e non si suona fino a tardi\, quindi arriva presto! \nSe vuoi prenotare un tavolo per aperitivo o cena scrivici sui social o su Whatsapp.
URL:https://spaziolodola.it/event/revol-jam-3/
END:VEVENT
BEGIN:VEVENT
DTSTART;TZID=Europe/Rome:20250704T160000
DTEND;TZID=Europe/Rome:20250704T230000
DTSTAMP:20260425T182627
CREATED:20250603T145633Z
LAST-MODIFIED:20250603T145633Z
UID:1209-1751644800-1751670000@spaziolodola.it
SUMMARY:Mondi in festa: i sapori della Crocetta a Spazio Lòdola
DESCRIPTION:Mondi in festa: i sapori della Crocetta a Spazio Lòdola \n\n\nVenerdì 20 e 27 giugno\, 4\, 11 e 18 luglio\ndalle 16 alle 23 \n\n\n\nDurante le serate del venerdì\, celebreremo ogni volta una nazionalità diversa che popola il quartiere Crocetta. Insieme alla comunità\, prepareremo un banchetto di cibo offerto e arricchiremo la serata con stand di artigian* locali. \nEvento in collaborazione con Caritas Diocesana all’interno della rassegna di Vivi Il Parco XXII Aprile.
URL:https://spaziolodola.it/event/mondi-in-festa-i-sapori-della-crocetta-a-spazio-lodola-3/
END:VEVENT
BEGIN:VEVENT
DTSTART;TZID=Europe/Rome:20250708T203000
DTEND;TZID=Europe/Rome:20250708T213000
DTSTAMP:20260425T182627
CREATED:20250715T110322Z
LAST-MODIFIED:20250715T110322Z
UID:1245-1752006600-1752010200@spaziolodola.it
SUMMARY:Laboratorio di danza africana
DESCRIPTION:Lezione gratuita di danza africana dall’Africa dell’Ovest in cui si imparano ritmi e tradizioni\, accompagnati dalle percussioni dal vivo. Le lezioni sono un’occasione di conoscenza delle ritmiche musicali e culturali delle tradizioni da cui provengono. \nMartedì 8\, 15\, 22\, 29 luglio dalle 20.30 alle 21.30 nel Parco XXII Aprile \nVuoi fermarti per aperitivo o cena? Puoi prenotare un tavolo a Spazio Lòdola scrivendoci sui social o su Whatsapp. \nIngresso libero e gratuito per tutti.
URL:https://spaziolodola.it/event/laboratorio-di-danza-africana/
END:VEVENT
BEGIN:VEVENT
DTSTART;TZID=Europe/Rome:20250711T160000
DTEND;TZID=Europe/Rome:20250711T230000
DTSTAMP:20260425T182627
CREATED:20250603T145656Z
LAST-MODIFIED:20250603T145656Z
UID:1211-1752249600-1752274800@spaziolodola.it
SUMMARY:Mondi in festa: i sapori della Crocetta a Spazio Lòdola
DESCRIPTION:Mondi in festa: i sapori della Crocetta a Spazio Lòdola \n\n\nVenerdì 20 e 27 giugno\, 4\, 11 e 18 luglio\ndalle 16 alle 23 \n\n\n\nDurante le serate del venerdì\, celebreremo ogni volta una nazionalità diversa che popola il quartiere Crocetta. Insieme alla comunità\, prepareremo un banchetto di cibo offerto e arricchiremo la serata con stand di artigian* locali. \nEvento in collaborazione con Caritas Diocesana all’interno della rassegna di Vivi Il Parco XXII Aprile.
URL:https://spaziolodola.it/event/mondi-in-festa-i-sapori-della-crocetta-a-spazio-lodola-4/
END:VEVENT
BEGIN:VEVENT
DTSTART;TZID=Europe/Rome:20250715T203000
DTEND;TZID=Europe/Rome:20250715T213000
DTSTAMP:20260425T182627
CREATED:20250715T110356Z
LAST-MODIFIED:20250715T110356Z
UID:1247-1752611400-1752615000@spaziolodola.it
SUMMARY:Laboratorio di danza africana
DESCRIPTION:Lezione gratuita di danza africana dall’Africa dell’Ovest in cui si imparano ritmi e tradizioni\, accompagnati dalle percussioni dal vivo. Le lezioni sono un’occasione di conoscenza delle ritmiche musicali e culturali delle tradizioni da cui provengono. \nMartedì 8\, 15\, 22\, 29 luglio dalle 20.30 alle 21.30 nel Parco XXII Aprile \nVuoi fermarti per aperitivo o cena? Puoi prenotare un tavolo a Spazio Lòdola scrivendoci sui social o su Whatsapp. \nIngresso libero e gratuito per tutti.
URL:https://spaziolodola.it/event/laboratorio-di-danza-africana-2/
END:VEVENT
BEGIN:VEVENT
DTSTART;TZID=Europe/Rome:20250717T190000
DTEND;TZID=Europe/Rome:20250717T203000
DTSTAMP:20260425T182627
CREATED:20250603T145335Z
LAST-MODIFIED:20250603T145335Z
UID:1201-1752778800-1752784200@spaziolodola.it
SUMMARY:Lezione di ceramica con Spontanea Ceramic
DESCRIPTION:Lezione di ceramica con Spontanea.Ceramic\nDalle 19 alle 20.30 \nCosto: 29 euro.\nPer info e prenotazioni: instagram @spontanea.ceramic \nPer prenotare un tavolo per cena o aperitivo scrivici sui social\, su Whatsapp o a spaziolodola@coopoltremare.it
URL:https://spaziolodola.it/event/lezione-di-ceramica-con-spontanea-ceramic-3/
END:VEVENT
BEGIN:VEVENT
DTSTART;TZID=Europe/Rome:20250717T210000
DTEND;TZID=Europe/Rome:20250717T230000
DTSTAMP:20260425T182627
CREATED:20250603T145142Z
LAST-MODIFIED:20250603T151032Z
UID:1195-1752786000-1752793200@spaziolodola.it
SUMMARY:Revol Jam Estate 2025
DESCRIPTION:Un appuntamento insieme alla Revol Wave Orchestra per jammare insieme prima delle vacanze a Spazio Lòdola. \nSi inizia alle 21 e non si suona fino a tardi\, quindi arriva presto! \nSe vuoi prenotare un tavolo per aperitivo o cena scrivici sui social o su Whatsapp.
URL:https://spaziolodola.it/event/revol-jam-4/
END:VEVENT
BEGIN:VEVENT
DTSTART;TZID=Europe/Rome:20250718T160000
DTEND;TZID=Europe/Rome:20250718T230000
DTSTAMP:20260425T182627
CREATED:20250603T145718Z
LAST-MODIFIED:20250603T145718Z
UID:1213-1752854400-1752879600@spaziolodola.it
SUMMARY:Mondi in festa: i sapori della Crocetta a Spazio Lòdola
DESCRIPTION:Mondi in festa: i sapori della Crocetta a Spazio Lòdola \n\n\nVenerdì 20 e 27 giugno\, 4\, 11 e 18 luglio\ndalle 16 alle 23 \n\n\n\nDurante le serate del venerdì\, celebreremo ogni volta una nazionalità diversa che popola il quartiere Crocetta. Insieme alla comunità\, prepareremo un banchetto di cibo offerto e arricchiremo la serata con stand di artigian* locali. \nEvento in collaborazione con Caritas Diocesana all’interno della rassegna di Vivi Il Parco XXII Aprile.
URL:https://spaziolodola.it/event/mondi-in-festa-i-sapori-della-crocetta-a-spazio-lodola-5/
END:VEVENT
BEGIN:VEVENT
DTSTART;TZID=Europe/Rome:20250722T203000
DTEND;TZID=Europe/Rome:20250722T213000
DTSTAMP:20260425T182627
CREATED:20250715T110423Z
LAST-MODIFIED:20250715T110423Z
UID:1249-1753216200-1753219800@spaziolodola.it
SUMMARY:Laboratorio di danza africana
DESCRIPTION:Lezione gratuita di danza africana dall’Africa dell’Ovest in cui si imparano ritmi e tradizioni\, accompagnati dalle percussioni dal vivo. Le lezioni sono un’occasione di conoscenza delle ritmiche musicali e culturali delle tradizioni da cui provengono. \nMartedì 8\, 15\, 22\, 29 luglio dalle 20.30 alle 21.30 nel Parco XXII Aprile \nVuoi fermarti per aperitivo o cena? Puoi prenotare un tavolo a Spazio Lòdola scrivendoci sui social o su Whatsapp. \nIngresso libero e gratuito per tutti.
URL:https://spaziolodola.it/event/laboratorio-di-danza-africana-3/
END:VEVENT
BEGIN:VEVENT
DTSTART;TZID=Europe/Rome:20250724T190000
DTEND;TZID=Europe/Rome:20250724T203000
DTSTAMP:20260425T182627
CREATED:20250603T145357Z
LAST-MODIFIED:20250603T145357Z
UID:1203-1753383600-1753389000@spaziolodola.it
SUMMARY:Lezione di ceramica con Spontanea Ceramic
DESCRIPTION:Lezione di ceramica con Spontanea.Ceramic\nDalle 19 alle 20.30 \nCosto: 29 euro.\nPer info e prenotazioni: instagram @spontanea.ceramic \nPer prenotare un tavolo per cena o aperitivo scrivici sui social\, su Whatsapp o a spaziolodola@coopoltremare.it
URL:https://spaziolodola.it/event/lezione-di-ceramica-con-spontanea-ceramic-4/
END:VEVENT
BEGIN:VEVENT
DTSTART;TZID=Europe/Rome:20250725T180000
DTEND;TZID=Europe/Rome:20250725T200000
DTSTAMP:20260425T182627
CREATED:20250625T094446Z
LAST-MODIFIED:20250625T094446Z
UID:1242-1753466400-1753473600@spaziolodola.it
SUMMARY:Assemblea dei soci e delle socie
DESCRIPTION:Cara socia e caro socio\, \ncon piacere ti invitiamo alla nostra Assemblea dei soci che si terrà in prima convocazione il 24 luglio 2025 alle ore 6.00\, e in seconda convocazione il 25 luglio 2025 alle ore 18 presso Spazio Lòdola\, in via Toniolo 124\, Modena. \n\n\n\nAll’ordine del giorno della nostra Assemblea ordinaria\, ci saranno:\n\n\n\n\nPresentazione e approvazione del bilancio sociale;\nPresentazione e approvazione del bilancio 2024;\nScadenza del CdA e dimissioni CdA in carica per decorrenza mandato\n\n\n\nSe non puoi partecipare\, puoi scaricare la delega dell’assemblea in favore di un’altra socia o di un altro socio. \nVi aspettiamo numerosi\,\nIl team di Oltremare
URL:https://spaziolodola.it/event/assemblea-dei-soci-e-delle-socie/
END:VEVENT
BEGIN:VEVENT
DTSTART;TZID=Europe/Rome:20250725T190000
DTEND;TZID=Europe/Rome:20250725T230000
DTSTAMP:20260425T182627
CREATED:20250603T151840Z
LAST-MODIFIED:20250716T091828Z
UID:1227-1753470000-1753484400@spaziolodola.it
SUMMARY:Pastasciutta Antifascista
DESCRIPTION:Ogni 25 luglio in Italia si cucina\, si mangia e si celebra la prima pastasciutta antifascista\, offerta dai sette fratelli Cervi alla comunità di Campegine\, a Reggio Emilia\, per festeggiare la fine della dittatura fascista e la deposizione di Mussolini\, avvenuta in quella stessa data nel 1943. \nVenerdì 25 luglio dalle 19 alle 23 abbiamo organizzato la Pastasciutta Antifascista in collaborazione con ANPI Modena. \nIngresso gratuito con prenotazione obbligatoria.  \nPer informazioni o prenotazioni: https://forms.gle/iEgqNdmLL1P6R3Ta7 \nPer ulteriori richieste potete scriverci sui social o su Whatsapp.
URL:https://spaziolodola.it/event/pastasciutta-antifascista-2/
END:VEVENT
BEGIN:VEVENT
DTSTART;TZID=Europe/Rome:20250729T203000
DTEND;TZID=Europe/Rome:20250729T213000
DTSTAMP:20260425T182627
CREATED:20250715T110556Z
LAST-MODIFIED:20250715T110556Z
UID:1251-1753821000-1753824600@spaziolodola.it
SUMMARY:Laboratorio di danza africana
DESCRIPTION:Lezione gratuita di danza africana dall’Africa dell’Ovest in cui si imparano ritmi e tradizioni\, accompagnati dalle percussioni dal vivo. Le lezioni sono un’occasione di conoscenza delle ritmiche musicali e culturali delle tradizioni da cui provengono. \nMartedì 8\, 15\, 22\, 29 luglio dalle 20.30 alle 21.30 nel Parco XXII Aprile \nVuoi fermarti per aperitivo o cena? Puoi prenotare un tavolo a Spazio Lòdola scrivendoci sui social o su Whatsapp. \nIngresso libero e gratuito per tutti.
URL:https://spaziolodola.it/event/laboratorio-di-danza-africana-4/
END:VEVENT
BEGIN:VEVENT
DTSTART;TZID=Europe/Rome:20250731T183000
DTEND;TZID=Europe/Rome:20250731T193000
DTSTAMP:20260425T182627
CREATED:20250729T111418Z
LAST-MODIFIED:20250729T111418Z
UID:1262-1753986600-1753990200@spaziolodola.it
SUMMARY:Distribuzione Alveare di Modena
DESCRIPTION:Ogni settimana è aperta la vendita dell’Alveare che dice sì: hai tempo fino a martedì a mezzanotte per concludere l’ordine.\nIl giovedì\, dalle 18.30 alle 19.30 a Spazio Lòdola\, con i produttori organizziamo la consegna dei prodotti acquistati e basterà presentarsi con il proprio numero d’ordine per ritirarli. \nPer maggiori info: 346 6769102 o https://alvearechedicesi.it/it 
URL:https://spaziolodola.it/event/distribuzione-alveare-di-modena/
END:VEVENT
END:VCALENDAR