BEGIN:VCALENDAR
VERSION:2.0
PRODID:-//Lòdola - ECPv6.9.0//NONSGML v1.0//EN
CALSCALE:GREGORIAN
METHOD:PUBLISH
X-WR-CALNAME:Lòdola
X-ORIGINAL-URL:https://spaziolodola.it
X-WR-CALDESC:Eventi per Lòdola
REFRESH-INTERVAL;VALUE=DURATION:PT1H
X-Robots-Tag:noindex
X-PUBLISHED-TTL:PT1H
BEGIN:VTIMEZONE
TZID:Europe/Rome
BEGIN:DAYLIGHT
TZOFFSETFROM:+0100
TZOFFSETTO:+0200
TZNAME:CEST
DTSTART:20260329T010000
END:DAYLIGHT
BEGIN:STANDARD
TZOFFSETFROM:+0200
TZOFFSETTO:+0100
TZNAME:CET
DTSTART:20261025T010000
END:STANDARD
END:VTIMEZONE
BEGIN:VEVENT
DTSTART;TZID=Europe/Rome:20260131T090000
DTEND;TZID=Europe/Rome:20260131T140000
DTSTAMP:20260424T012111
CREATED:20260112T085523Z
LAST-MODIFIED:20260112T085523Z
UID:1432-1769850000-1769868000@spaziolodola.it
SUMMARY:Brunch Club
DESCRIPTION:Tutti i sabati a Spazio Lòdola dalle 9 alle 14 \n\nBrunch di stagione e bevande homemade\nBuns e croissant a cura di Buns MicroBakery\nVegan & gluten free friendly\n\nScopri il menù cliccando qui.\nPer prenotare il tuo tavolo scrivici su whatsapp o in direct su Instagram.
URL:https://spaziolodola.it/event/brunch-club-13/
END:VEVENT
END:VCALENDAR