BEGIN:VCALENDAR
VERSION:2.0
PRODID:-//Lòdola - ECPv6.9.0//NONSGML v1.0//EN
CALSCALE:GREGORIAN
METHOD:PUBLISH
X-WR-CALNAME:Lòdola
X-ORIGINAL-URL:https://spaziolodola.it
X-WR-CALDESC:Eventi per Lòdola
REFRESH-INTERVAL;VALUE=DURATION:PT1H
X-Robots-Tag:noindex
X-PUBLISHED-TTL:PT1H
BEGIN:VTIMEZONE
TZID:Europe/Rome
BEGIN:DAYLIGHT
TZOFFSETFROM:+0100
TZOFFSETTO:+0200
TZNAME:CEST
DTSTART:20260329T010000
END:DAYLIGHT
BEGIN:STANDARD
TZOFFSETFROM:+0200
TZOFFSETTO:+0100
TZNAME:CET
DTSTART:20261025T010000
END:STANDARD
END:VTIMEZONE
BEGIN:VEVENT
DTSTART;TZID=Europe/Rome:20260129T210000
DTEND;TZID=Europe/Rome:20260129T230000
DTSTAMP:20260424T010616
CREATED:20260112T085703Z
LAST-MODIFIED:20260112T085703Z
UID:1434-1769720400-1769727600@spaziolodola.it
SUMMARY:Concerto "Giacomo Cantelli unplugged"
DESCRIPTION:Concerto “Giacomo Cantelli unplugged: rockstar per pochi intimi” \nGiovedì 29 gennaio dalle ore 21 presso Spazio Lòdola\nFREE ENTRY \nVuoi prenotare un tavolo per aperitivo o cena? Scrivici su whatsapp o in direct su Instagram!
URL:https://spaziolodola.it/event/concerto-giacomo-cantelli-unplugged/
END:VEVENT
END:VCALENDAR