BEGIN:VCALENDAR
VERSION:2.0
PRODID:-//Lòdola - ECPv6.9.0//NONSGML v1.0//EN
CALSCALE:GREGORIAN
METHOD:PUBLISH
X-ORIGINAL-URL:https://spaziolodola.it
X-WR-CALDESC:Eventi per Lòdola
REFRESH-INTERVAL;VALUE=DURATION:PT1H
X-Robots-Tag:noindex
X-PUBLISHED-TTL:PT1H
BEGIN:VTIMEZONE
TZID:Europe/Rome
BEGIN:DAYLIGHT
TZOFFSETFROM:+0100
TZOFFSETTO:+0200
TZNAME:CEST
DTSTART:20250330T010000
END:DAYLIGHT
BEGIN:STANDARD
TZOFFSETFROM:+0200
TZOFFSETTO:+0100
TZNAME:CET
DTSTART:20251026T010000
END:STANDARD
END:VTIMEZONE
BEGIN:VEVENT
DTSTART;TZID=Europe/Rome:20251113T183000
DTEND;TZID=Europe/Rome:20251113T193000
DTSTAMP:20260424T155740
CREATED:20251031T103953Z
LAST-MODIFIED:20251031T103953Z
UID:1404-1763058600-1763062200@spaziolodola.it
SUMMARY:Distribuzione Alveare di Modena
DESCRIPTION:
URL:https://spaziolodola.it/event/distribuzione-alveare-di-modena-13/
END:VEVENT
BEGIN:VEVENT
DTSTART;TZID=Europe/Rome:20251113T190000
DTEND;TZID=Europe/Rome:20251113T203000
DTSTAMP:20260424T155740
CREATED:20251031T103143Z
LAST-MODIFIED:20251031T103143Z
UID:1387-1763060400-1763065800@spaziolodola.it
SUMMARY:Workshop di ceramica con Spontanea Ceramic
DESCRIPTION:Laboratorio di ceramica con Spontanea Ceramic dalle 19 alle 20.30.  \nCreerai il tuo pezzo unico in terracotta che Carolina di Spontanea cuocerà per te. Le date dei prossimi mesi sono 13 o 20 novembre e 11 dicembre a Spazio Lòdola. \nScrivi su instagram a @spontanea_ceramic per maggiori informazioni.\nI posti sono limitati. \nSe vuoi prenotare un tavolo per aperitivo o cena prima o dopo il corso\, scrivici una mail a spaziolodola@coopoltremare.it o un messaggio su Whatsapp. \n 
URL:https://spaziolodola.it/event/workshop-di-ceramica-con-spontanea-ceramic/
END:VEVENT
END:VCALENDAR