BEGIN:VCALENDAR
VERSION:2.0
PRODID:-//Lòdola - ECPv6.9.0//NONSGML v1.0//EN
CALSCALE:GREGORIAN
METHOD:PUBLISH
X-WR-CALNAME:Lòdola
X-ORIGINAL-URL:https://spaziolodola.it
X-WR-CALDESC:Eventi per Lòdola
REFRESH-INTERVAL;VALUE=DURATION:PT1H
X-Robots-Tag:noindex
X-PUBLISHED-TTL:PT1H
BEGIN:VTIMEZONE
TZID:Europe/Rome
BEGIN:DAYLIGHT
TZOFFSETFROM:+0100
TZOFFSETTO:+0200
TZNAME:CEST
DTSTART:20250330T010000
END:DAYLIGHT
BEGIN:STANDARD
TZOFFSETFROM:+0200
TZOFFSETTO:+0100
TZNAME:CET
DTSTART:20251026T010000
END:STANDARD
END:VTIMEZONE
BEGIN:VEVENT
DTSTART;TZID=Europe/Rome:20251105T200000
DTEND;TZID=Europe/Rome:20251105T213000
DTSTAMP:20260425T041435
CREATED:20251031T103737Z
LAST-MODIFIED:20251031T103737Z
UID:1394-1762372800-1762378200@spaziolodola.it
SUMMARY:Corso di tamburi a cornice del Sud Italia
DESCRIPTION:
URL:https://spaziolodola.it/event/corso-di-tamburi-a-cornice-del-sud-italia-7/
END:VEVENT
END:VCALENDAR