BEGIN:VCALENDAR
VERSION:2.0
PRODID:-//Lòdola - ECPv6.9.0//NONSGML v1.0//EN
CALSCALE:GREGORIAN
METHOD:PUBLISH
X-WR-CALNAME:Lòdola
X-ORIGINAL-URL:https://spaziolodola.it
X-WR-CALDESC:Eventi per Lòdola
REFRESH-INTERVAL;VALUE=DURATION:PT1H
X-Robots-Tag:noindex
X-PUBLISHED-TTL:PT1H
BEGIN:VTIMEZONE
TZID:Europe/Rome
BEGIN:DAYLIGHT
TZOFFSETFROM:+0100
TZOFFSETTO:+0200
TZNAME:CEST
DTSTART:20250330T010000
END:DAYLIGHT
BEGIN:STANDARD
TZOFFSETFROM:+0200
TZOFFSETTO:+0100
TZNAME:CET
DTSTART:20251026T010000
END:STANDARD
END:VTIMEZONE
BEGIN:VEVENT
DTSTART;TZID=Europe/Rome:20251029T200000
DTEND;TZID=Europe/Rome:20251029T213000
DTSTAMP:20260424T155620
CREATED:20250918T133633Z
LAST-MODIFIED:20250918T133633Z
UID:1376-1761768000-1761773400@spaziolodola.it
SUMMARY:Corso di tamburi a cornice del Sud Italia
DESCRIPTION:Per info e prenotazioni\nMaurizio: 320 2121864 | mauriziomessore@hotmail.it
URL:https://spaziolodola.it/event/corso-di-tamburi-a-cornice-del-sud-italia-6/
END:VEVENT
END:VCALENDAR