BEGIN:VCALENDAR
VERSION:2.0
PRODID:-//Lòdola - ECPv6.9.0//NONSGML v1.0//EN
CALSCALE:GREGORIAN
METHOD:PUBLISH
X-WR-CALNAME:Lòdola
X-ORIGINAL-URL:https://spaziolodola.it
X-WR-CALDESC:Eventi per Lòdola
REFRESH-INTERVAL;VALUE=DURATION:PT1H
X-Robots-Tag:noindex
X-PUBLISHED-TTL:PT1H
BEGIN:VTIMEZONE
TZID:Europe/Rome
BEGIN:DAYLIGHT
TZOFFSETFROM:+0100
TZOFFSETTO:+0200
TZNAME:CEST
DTSTART:20250330T010000
END:DAYLIGHT
BEGIN:STANDARD
TZOFFSETFROM:+0200
TZOFFSETTO:+0100
TZNAME:CET
DTSTART:20251026T010000
END:STANDARD
END:VTIMEZONE
BEGIN:VEVENT
DTSTART;TZID=Europe/Rome:20251023T183000
DTEND;TZID=Europe/Rome:20251023T193000
DTSTAMP:20260425T182547
CREATED:20250918T132551Z
LAST-MODIFIED:20250918T132551Z
UID:1347-1761244200-1761247800@spaziolodola.it
SUMMARY:Distribuzione Alveare di Modena
DESCRIPTION:Ogni settimana è aperta la vendita dell’Alveare che dice sì: hai tempo fino a martedì a mezzanotte per concludere l’ordine.\nIl giovedì\, dalle 18.30 alle 19.30 a Spazio Lòdola\, con i produttori organizziamo la consegna dei prodotti acquistati e basterà presentarsi con il proprio numero d’ordine per ritirarli. \nPer maggiori info: 346 6769102 o https://alvearechedicesi.it/it 
URL:https://spaziolodola.it/event/distribuzione-alveare-di-modena-10/
END:VEVENT
BEGIN:VEVENT
DTSTART;TZID=Europe/Rome:20251023T190000
DTEND;TZID=Europe/Rome:20251023T203000
DTSTAMP:20260425T182547
CREATED:20250729T111100Z
LAST-MODIFIED:20250729T111100Z
UID:1260-1761246000-1761251400@spaziolodola.it
SUMMARY:Laboratorio di ceramica con Spontanea Ceramic
DESCRIPTION:
URL:https://spaziolodola.it/event/laboratorio-di-ceramica-con-spontanea-ceramic-4/
END:VEVENT
END:VCALENDAR