BEGIN:VCALENDAR
VERSION:2.0
PRODID:-//Lòdola - ECPv6.9.0//NONSGML v1.0//EN
CALSCALE:GREGORIAN
METHOD:PUBLISH
X-ORIGINAL-URL:https://spaziolodola.it
X-WR-CALDESC:Eventi per Lòdola
REFRESH-INTERVAL;VALUE=DURATION:PT1H
X-Robots-Tag:noindex
X-PUBLISHED-TTL:PT1H
BEGIN:VTIMEZONE
TZID:Europe/Rome
BEGIN:DAYLIGHT
TZOFFSETFROM:+0100
TZOFFSETTO:+0200
TZNAME:CEST
DTSTART:20250330T010000
END:DAYLIGHT
BEGIN:STANDARD
TZOFFSETFROM:+0200
TZOFFSETTO:+0100
TZNAME:CET
DTSTART:20251026T010000
END:STANDARD
END:VTIMEZONE
BEGIN:VEVENT
DTSTART;TZID=Europe/Rome:20251002T183000
DTEND;TZID=Europe/Rome:20251002T193000
DTSTAMP:20260425T170646
CREATED:20250918T132453Z
LAST-MODIFIED:20250918T132453Z
UID:1341-1759429800-1759433400@spaziolodola.it
SUMMARY:Distribuzione Alveare di Modena
DESCRIPTION:Ogni settimana è aperta la vendita dell’Alveare che dice sì: hai tempo fino a martedì a mezzanotte per concludere l’ordine.\nIl giovedì\, dalle 18.30 alle 19.30 a Spazio Lòdola\, con i produttori organizziamo la consegna dei prodotti acquistati e basterà presentarsi con il proprio numero d’ordine per ritirarli. \nPer maggiori info: 346 6769102 o https://alvearechedicesi.it/it 
URL:https://spaziolodola.it/event/distribuzione-alveare-di-modena-7/
END:VEVENT
END:VCALENDAR