BEGIN:VCALENDAR
VERSION:2.0
PRODID:-//Lòdola - ECPv6.9.0//NONSGML v1.0//EN
CALSCALE:GREGORIAN
METHOD:PUBLISH
X-ORIGINAL-URL:https://spaziolodola.it
X-WR-CALDESC:Eventi per Lòdola
REFRESH-INTERVAL;VALUE=DURATION:PT1H
X-Robots-Tag:noindex
X-PUBLISHED-TTL:PT1H
BEGIN:VTIMEZONE
TZID:Europe/Rome
BEGIN:DAYLIGHT
TZOFFSETFROM:+0100
TZOFFSETTO:+0200
TZNAME:CEST
DTSTART:20250330T010000
END:DAYLIGHT
BEGIN:STANDARD
TZOFFSETFROM:+0200
TZOFFSETTO:+0100
TZNAME:CET
DTSTART:20251026T010000
END:STANDARD
END:VTIMEZONE
BEGIN:VEVENT
DTSTART;TZID=Europe/Rome:20250925T183000
DTEND;TZID=Europe/Rome:20250925T193000
DTSTAMP:20260425T170653
CREATED:20250729T111610Z
LAST-MODIFIED:20250729T111610Z
UID:1272-1758825000-1758828600@spaziolodola.it
SUMMARY:Distribuzione Alveare di Modena
DESCRIPTION:Ogni settimana è aperta la vendita dell’Alveare che dice sì: hai tempo fino a martedì a mezzanotte per concludere l’ordine.\nIl giovedì\, dalle 18.30 alle 19.30 a Spazio Lòdola\, con i produttori organizziamo la consegna dei prodotti acquistati e basterà presentarsi con il proprio numero d’ordine per ritirarli. \nPer maggiori info: 346 6769102 o https://alvearechedicesi.it/it 
URL:https://spaziolodola.it/event/distribuzione-alveare-di-modena-6/
END:VEVENT
BEGIN:VEVENT
DTSTART;TZID=Europe/Rome:20250925T190000
DTEND;TZID=Europe/Rome:20250925T203000
DTSTAMP:20260425T170653
CREATED:20250729T111017Z
LAST-MODIFIED:20250729T111017Z
UID:1256-1758826800-1758832200@spaziolodola.it
SUMMARY:Laboratorio di ceramica con Spontanea Ceramic
DESCRIPTION:
URL:https://spaziolodola.it/event/laboratorio-di-ceramica-con-spontanea-ceramic-2/
END:VEVENT
END:VCALENDAR