BEGIN:VCALENDAR
VERSION:2.0
PRODID:-//Lòdola - ECPv6.9.0//NONSGML v1.0//EN
CALSCALE:GREGORIAN
METHOD:PUBLISH
X-WR-CALNAME:Lòdola
X-ORIGINAL-URL:https://spaziolodola.it
X-WR-CALDESC:Eventi per Lòdola
REFRESH-INTERVAL;VALUE=DURATION:PT1H
X-Robots-Tag:noindex
X-PUBLISHED-TTL:PT1H
BEGIN:VTIMEZONE
TZID:Europe/Rome
BEGIN:DAYLIGHT
TZOFFSETFROM:+0100
TZOFFSETTO:+0200
TZNAME:CEST
DTSTART:20250330T010000
END:DAYLIGHT
BEGIN:STANDARD
TZOFFSETFROM:+0200
TZOFFSETTO:+0100
TZNAME:CET
DTSTART:20251026T010000
END:STANDARD
END:VTIMEZONE
BEGIN:VEVENT
DTSTART;TZID=Europe/Rome:20250717T190000
DTEND;TZID=Europe/Rome:20250717T203000
DTSTAMP:20260426T023249
CREATED:20250603T145335Z
LAST-MODIFIED:20250603T145335Z
UID:1201-1752778800-1752784200@spaziolodola.it
SUMMARY:Lezione di ceramica con Spontanea Ceramic
DESCRIPTION:Lezione di ceramica con Spontanea.Ceramic\nDalle 19 alle 20.30 \nCosto: 29 euro.\nPer info e prenotazioni: instagram @spontanea.ceramic \nPer prenotare un tavolo per cena o aperitivo scrivici sui social\, su Whatsapp o a spaziolodola@coopoltremare.it
URL:https://spaziolodola.it/event/lezione-di-ceramica-con-spontanea-ceramic-3/
END:VEVENT
BEGIN:VEVENT
DTSTART;TZID=Europe/Rome:20250717T210000
DTEND;TZID=Europe/Rome:20250717T230000
DTSTAMP:20260426T023249
CREATED:20250603T145142Z
LAST-MODIFIED:20250603T151032Z
UID:1195-1752786000-1752793200@spaziolodola.it
SUMMARY:Revol Jam Estate 2025
DESCRIPTION:Un appuntamento insieme alla Revol Wave Orchestra per jammare insieme prima delle vacanze a Spazio Lòdola. \nSi inizia alle 21 e non si suona fino a tardi\, quindi arriva presto! \nSe vuoi prenotare un tavolo per aperitivo o cena scrivici sui social o su Whatsapp.
URL:https://spaziolodola.it/event/revol-jam-4/
END:VEVENT
END:VCALENDAR