BEGIN:VCALENDAR
VERSION:2.0
PRODID:-//Lòdola - ECPv6.9.0//NONSGML v1.0//EN
CALSCALE:GREGORIAN
METHOD:PUBLISH
X-WR-CALNAME:Lòdola
X-ORIGINAL-URL:https://spaziolodola.it
X-WR-CALDESC:Eventi per Lòdola
REFRESH-INTERVAL;VALUE=DURATION:PT1H
X-Robots-Tag:noindex
X-PUBLISHED-TTL:PT1H
BEGIN:VTIMEZONE
TZID:Europe/Rome
BEGIN:DAYLIGHT
TZOFFSETFROM:+0100
TZOFFSETTO:+0200
TZNAME:CEST
DTSTART:20250330T010000
END:DAYLIGHT
BEGIN:STANDARD
TZOFFSETFROM:+0200
TZOFFSETTO:+0100
TZNAME:CET
DTSTART:20251026T010000
END:STANDARD
END:VTIMEZONE
BEGIN:VEVENT
DTSTART;TZID=Europe/Rome:20250708T203000
DTEND;TZID=Europe/Rome:20250708T213000
DTSTAMP:20260426T003215
CREATED:20250715T110322Z
LAST-MODIFIED:20250715T110322Z
UID:1245-1752006600-1752010200@spaziolodola.it
SUMMARY:Laboratorio di danza africana
DESCRIPTION:Lezione gratuita di danza africana dall’Africa dell’Ovest in cui si imparano ritmi e tradizioni\, accompagnati dalle percussioni dal vivo. Le lezioni sono un’occasione di conoscenza delle ritmiche musicali e culturali delle tradizioni da cui provengono. \nMartedì 8\, 15\, 22\, 29 luglio dalle 20.30 alle 21.30 nel Parco XXII Aprile \nVuoi fermarti per aperitivo o cena? Puoi prenotare un tavolo a Spazio Lòdola scrivendoci sui social o su Whatsapp. \nIngresso libero e gratuito per tutti.
URL:https://spaziolodola.it/event/laboratorio-di-danza-africana/
END:VEVENT
END:VCALENDAR