BEGIN:VCALENDAR
VERSION:2.0
PRODID:-//Lòdola - ECPv6.9.0//NONSGML v1.0//EN
CALSCALE:GREGORIAN
METHOD:PUBLISH
X-ORIGINAL-URL:https://spaziolodola.it
X-WR-CALDESC:Eventi per Lòdola
REFRESH-INTERVAL;VALUE=DURATION:PT1H
X-Robots-Tag:noindex
X-PUBLISHED-TTL:PT1H
BEGIN:VTIMEZONE
TZID:Europe/Rome
BEGIN:DAYLIGHT
TZOFFSETFROM:+0100
TZOFFSETTO:+0200
TZNAME:CEST
DTSTART:20250330T010000
END:DAYLIGHT
BEGIN:STANDARD
TZOFFSETFROM:+0200
TZOFFSETTO:+0100
TZNAME:CET
DTSTART:20251026T010000
END:STANDARD
END:VTIMEZONE
BEGIN:VEVENT
DTSTART;TZID=Europe/Rome:20250703T210000
DTEND;TZID=Europe/Rome:20250703T230000
DTSTAMP:20260426T024006
CREATED:20250603T145118Z
LAST-MODIFIED:20250603T151008Z
UID:1193-1751576400-1751583600@spaziolodola.it
SUMMARY:Revol Jam Estate 2025
DESCRIPTION:Un appuntamento insieme alla Revol Wave Orchestra per jammare insieme prima delle vacanze a Spazio Lòdola. \nSi inizia alle 21 e non si suona fino a tardi\, quindi arriva presto! \nSe vuoi prenotare un tavolo per aperitivo o cena scrivici sui social o su Whatsapp.
URL:https://spaziolodola.it/event/revol-jam-3/
END:VEVENT
END:VCALENDAR