BEGIN:VCALENDAR
VERSION:2.0
PRODID:-//Lòdola - ECPv6.9.0//NONSGML v1.0//EN
CALSCALE:GREGORIAN
METHOD:PUBLISH
X-WR-CALNAME:Lòdola
X-ORIGINAL-URL:https://spaziolodola.it
X-WR-CALDESC:Eventi per Lòdola
REFRESH-INTERVAL;VALUE=DURATION:PT1H
X-Robots-Tag:noindex
X-PUBLISHED-TTL:PT1H
BEGIN:VTIMEZONE
TZID:Europe/Rome
BEGIN:DAYLIGHT
TZOFFSETFROM:+0100
TZOFFSETTO:+0200
TZNAME:CEST
DTSTART:20250330T010000
END:DAYLIGHT
BEGIN:STANDARD
TZOFFSETFROM:+0200
TZOFFSETTO:+0100
TZNAME:CET
DTSTART:20251026T010000
END:STANDARD
END:VTIMEZONE
BEGIN:VEVENT
DTSTART;TZID=Europe/Rome:20250605T160000
DTEND;TZID=Europe/Rome:20250605T190000
DTSTAMP:20260426T032912
CREATED:20250603T151153Z
LAST-MODIFIED:20250603T151153Z
UID:1225-1749139200-1749150000@spaziolodola.it
SUMMARY:Hennè con Umme
DESCRIPTION:Prenota il tuo slot di hennè 100% naturale a Spazio Lòdola giovedì 5 giugno tra le 16 e le 19. \nPer info e prenotazioni scrivi sui Instagram a @henne_tatuaggio_in_modena \n 
URL:https://spaziolodola.it/event/henne-con-umme/
END:VEVENT
BEGIN:VEVENT
DTSTART;TZID=Europe/Rome:20250605T210000
DTEND;TZID=Europe/Rome:20250605T230000
DTSTAMP:20260426T032912
CREATED:20250603T144940Z
LAST-MODIFIED:20250603T151023Z
UID:1189-1749157200-1749164400@spaziolodola.it
SUMMARY:Revol Jam Estate 2025
DESCRIPTION:Un appuntamento insieme alla Revol Wave Orchestra per jammare insieme prima delle vacanze a Spazio Lòdola. \nSi inizia alle 21 e non si suona fino a tardi\, quindi arriva presto! \nSe vuoi prenotare un tavolo per aperitivo o cena scrivici sui social o su Whatsapp.
URL:https://spaziolodola.it/event/revol-jam/
END:VEVENT
END:VCALENDAR